BEGIN:VCALENDAR
VERSION:2.0
PRODID:-//NGC 25 - ECPv6.15.20//NONSGML v1.0//EN
CALSCALE:GREGORIAN
METHOD:PUBLISH
X-WR-CALNAME:NGC 25
X-ORIGINAL-URL:https://ngc25.com
X-WR-CALDESC:Évènements pour NGC 25
REFRESH-INTERVAL;VALUE=DURATION:PT1H
X-Robots-Tag:noindex
X-PUBLISHED-TTL:PT1H
BEGIN:VTIMEZONE
TZID:Europe/Paris
BEGIN:DAYLIGHT
TZOFFSETFROM:+0100
TZOFFSETTO:+0200
TZNAME:CEST
DTSTART:20240331T010000
END:DAYLIGHT
BEGIN:STANDARD
TZOFFSETFROM:+0200
TZOFFSETTO:+0100
TZNAME:CET
DTSTART:20241027T010000
END:STANDARD
BEGIN:DAYLIGHT
TZOFFSETFROM:+0100
TZOFFSETTO:+0200
TZNAME:CEST
DTSTART:20250330T010000
END:DAYLIGHT
BEGIN:STANDARD
TZOFFSETFROM:+0200
TZOFFSETTO:+0100
TZNAME:CET
DTSTART:20251026T010000
END:STANDARD
BEGIN:DAYLIGHT
TZOFFSETFROM:+0100
TZOFFSETTO:+0200
TZNAME:CEST
DTSTART:20260329T010000
END:DAYLIGHT
BEGIN:STANDARD
TZOFFSETFROM:+0200
TZOFFSETTO:+0100
TZNAME:CET
DTSTART:20261025T010000
END:STANDARD
END:VTIMEZONE
BEGIN:VEVENT
DTSTART;TZID=Europe/Paris:20251007T150000
DTEND;TZID=Europe/Paris:20251007T160000
DTSTAMP:20260422T011533
CREATED:20250718T122117Z
LAST-MODIFIED:20250718T122117Z
UID:11871-1759849200-1759852800@ngc25.com
SUMMARY:mardi 7 octobre - Rose - St Sébastien/Loire (44)
DESCRIPTION:Horaire : 15h
URL:https://ngc25.com/agenda/mardi-7-octobre-rose-st-sebastien-loire-44/
LOCATION:L’Escall\, 27 Rue des Berlaguts\, Saint-Sébastien-sur-Loire\, 44230\, France
CATEGORIES:Rose
ATTACH;FMTTYPE=image/jpeg:https://ngc25.com/wp-content/uploads/2024/09/IMG_4716-scaled.jpg
END:VEVENT
END:VCALENDAR