BEGIN:VCALENDAR
VERSION:2.0
PRODID:-//NGC 25 - ECPv6.15.20//NONSGML v1.0//EN
CALSCALE:GREGORIAN
METHOD:PUBLISH
X-WR-CALNAME:NGC 25
X-ORIGINAL-URL:https://ngc25.com
X-WR-CALDESC:Évènements pour NGC 25
REFRESH-INTERVAL;VALUE=DURATION:PT1H
X-Robots-Tag:noindex
X-PUBLISHED-TTL:PT1H
BEGIN:VTIMEZONE
TZID:Europe/Paris
BEGIN:DAYLIGHT
TZOFFSETFROM:+0100
TZOFFSETTO:+0200
TZNAME:CEST
DTSTART:20240331T010000
END:DAYLIGHT
BEGIN:STANDARD
TZOFFSETFROM:+0200
TZOFFSETTO:+0100
TZNAME:CET
DTSTART:20241027T010000
END:STANDARD
BEGIN:DAYLIGHT
TZOFFSETFROM:+0100
TZOFFSETTO:+0200
TZNAME:CEST
DTSTART:20250330T010000
END:DAYLIGHT
BEGIN:STANDARD
TZOFFSETFROM:+0200
TZOFFSETTO:+0100
TZNAME:CET
DTSTART:20251026T010000
END:STANDARD
BEGIN:DAYLIGHT
TZOFFSETFROM:+0100
TZOFFSETTO:+0200
TZNAME:CEST
DTSTART:20260329T010000
END:DAYLIGHT
BEGIN:STANDARD
TZOFFSETFROM:+0200
TZOFFSETTO:+0100
TZNAME:CET
DTSTART:20261025T010000
END:STANDARD
END:VTIMEZONE
BEGIN:VEVENT
DTSTART;TZID=Europe/Paris:20250607T160000
DTEND;TZID=Europe/Paris:20250607T170000
DTSTAMP:20260421T164929
CREATED:20250514T084326Z
LAST-MODIFIED:20250514T084326Z
UID:11767-1749312000-1749315600@ngc25.com
SUMMARY:samedi 7 juin - le bal à Boby - la Haye-Fouassière (44)
DESCRIPTION:Horaire : 16h dans le cadre du Festival Topo(s)
URL:https://ngc25.com/agenda/samedi-7-juin-le-bal-a-boby-la-haye-fouassiere-44/
LOCATION:Rond-Point\, La Haye-Fouassière\, 44690\, France
CATEGORIES:Le Bal à Boby
ATTACH;FMTTYPE=image/jpeg:https://ngc25.com/wp-content/uploads/2017/09/Ernest-S.-Mandap-5_1600-e1544792531965.jpg
END:VEVENT
BEGIN:VEVENT
DTSTART;TZID=Europe/Paris:20250607T180000
DTEND;TZID=Europe/Paris:20250607T190000
DTSTAMP:20260421T164929
CREATED:20250514T082106Z
LAST-MODIFIED:20250514T082106Z
UID:11764-1749319200-1749322800@ngc25.com
SUMMARY:samedi 7 juin - le bal à Boby - Nantes (44)
DESCRIPTION:Horaire : 18h
URL:https://ngc25.com/agenda/samedi-7-juin-le-bal-a-boby-nantes-44/
LOCATION:Ranzay\, Nantes\, 44300\, France
CATEGORIES:Le Bal à Boby
ATTACH;FMTTYPE=image/jpeg:https://ngc25.com/wp-content/uploads/2017/09/Ernest-S.-Mandap-5_1600-e1544792531965.jpg
END:VEVENT
BEGIN:VEVENT
DTSTART;VALUE=DATE:20250614
DTEND;VALUE=DATE:20250615
DTSTAMP:20260421T164929
CREATED:20241213T124837Z
LAST-MODIFIED:20241213T124837Z
UID:11717-1749859200-1749945599@ngc25.com
SUMMARY:samedi 14 juin - le bal à Boby - Châteaubriant (44)
DESCRIPTION:Horaire : en cours
URL:https://ngc25.com/agenda/samedi-14-juin-le-bal-a-boby-chateaubriant-44/
CATEGORIES:Le Bal à Boby
ATTACH;FMTTYPE=image/jpeg:https://ngc25.com/wp-content/uploads/2017/10/IMG_8409-e1508247984605.jpg
END:VEVENT
BEGIN:VEVENT
DTSTART;TZID=Europe/Paris:20250615T110000
DTEND;TZID=Europe/Paris:20250615T120000
DTSTAMP:20260421T164929
CREATED:20250514T085654Z
LAST-MODIFIED:20250514T085654Z
UID:11773-1749985200-1749988800@ngc25.com
SUMMARY:dimanche 15 juin - le bal à Boby - Divatte-sur-Loire (44)
DESCRIPTION:Horaire : 11h
URL:https://ngc25.com/agenda/dimanche-15-juin-le-bal-a-boby-divatte-sur-loire-44/
LOCATION:Site de la Halte à vélo\, Pierre Percée\, Divatte-sur-Loire\, 44450\, France
CATEGORIES:Le Bal à Boby
ATTACH;FMTTYPE=image/jpeg:https://ngc25.com/wp-content/uploads/2017/09/Ernest-S.-Mandap-5_1600-e1544792531965.jpg
END:VEVENT
BEGIN:VEVENT
DTSTART;TZID=Europe/Paris:20250615T150000
DTEND;TZID=Europe/Paris:20250615T160000
DTSTAMP:20260421T164929
CREATED:20250514T085942Z
LAST-MODIFIED:20250514T085942Z
UID:11776-1749999600-1750003200@ngc25.com
SUMMARY:dimanche 15 juin - Le bal à Boby - St Julien de Concelles
DESCRIPTION:Horaire : 15h
URL:https://ngc25.com/agenda/dimanche-15-juin-le-bal-a-boby-st-julien-de-concelles/
LOCATION:Site de la CHEBUETTE\, Saint-Julien-de-Concelles\, 44450\, France
CATEGORIES:Le Bal à Boby
ATTACH;FMTTYPE=image/jpeg:https://ngc25.com/wp-content/uploads/2017/09/Ernest-S.-Mandap-5_1600-e1544792531965.jpg
END:VEVENT
END:VCALENDAR