BEGIN:VCALENDAR
VERSION:2.0
PRODID:-//NGC 25 - ECPv6.15.20//NONSGML v1.0//EN
CALSCALE:GREGORIAN
METHOD:PUBLISH
X-ORIGINAL-URL:https://ngc25.com
X-WR-CALDESC:Évènements pour NGC 25
REFRESH-INTERVAL;VALUE=DURATION:PT1H
X-Robots-Tag:noindex
X-PUBLISHED-TTL:PT1H
BEGIN:VTIMEZONE
TZID:Europe/Paris
BEGIN:DAYLIGHT
TZOFFSETFROM:+0100
TZOFFSETTO:+0200
TZNAME:CEST
DTSTART:20220327T010000
END:DAYLIGHT
BEGIN:STANDARD
TZOFFSETFROM:+0200
TZOFFSETTO:+0100
TZNAME:CET
DTSTART:20221030T010000
END:STANDARD
BEGIN:DAYLIGHT
TZOFFSETFROM:+0100
TZOFFSETTO:+0200
TZNAME:CEST
DTSTART:20230326T010000
END:DAYLIGHT
BEGIN:STANDARD
TZOFFSETFROM:+0200
TZOFFSETTO:+0100
TZNAME:CET
DTSTART:20231029T010000
END:STANDARD
BEGIN:DAYLIGHT
TZOFFSETFROM:+0100
TZOFFSETTO:+0200
TZNAME:CEST
DTSTART:20240331T010000
END:DAYLIGHT
BEGIN:STANDARD
TZOFFSETFROM:+0200
TZOFFSETTO:+0100
TZNAME:CET
DTSTART:20241027T010000
END:STANDARD
END:VTIMEZONE
BEGIN:VEVENT
DTSTART;TZID=Europe/Paris:20230127T093000
DTEND;TZID=Europe/Paris:20230127T153000
DTSTAMP:20260423T150808
CREATED:20221219T133044Z
LAST-MODIFIED:20221219T133044Z
UID:11126-1674811800-1674833400@ngc25.com
SUMMARY:vendredi 27 janvier - Le bal à Boby - Haguenau (67)
DESCRIPTION:Horaires : 9h30 & 14h30
URL:https://ngc25.com/agenda/vendredi-27-janvier-le-bal-a-boby-haguenau-67/
LOCATION:Théâtre de Haguenau\, place du Maire Guntz\, Haguenau\, 67500\, France
CATEGORIES:Le Bal à Boby
ATTACH;FMTTYPE=image/jpeg:https://ngc25.com/wp-content/uploads/2017/09/Ernest-S.-Mandap-5_1600-e1544792531965.jpg
END:VEVENT
BEGIN:VEVENT
DTSTART;TZID=Europe/Paris:20230128T170000
DTEND;TZID=Europe/Paris:20230128T180000
DTSTAMP:20260423T150808
CREATED:20221219T132451Z
LAST-MODIFIED:20221219T132445Z
UID:11111-1674925200-1674928800@ngc25.com
SUMMARY:samedi 28 janvier - Le bal à Boby - Haguenau (67)
DESCRIPTION:Horaire : 17h (séance tout public)
URL:https://ngc25.com/agenda/samedi-28-janvier-le-bal-a-boby-haguenau-67/
LOCATION:Théâtre de Haguenau\, place du Maire Guntz\, Haguenau\, 67500\, France
CATEGORIES:Le Bal à Boby
ATTACH;FMTTYPE=image/jpeg:https://ngc25.com/wp-content/uploads/2017/09/Ernest-S.-Mandap-5_1600-e1544792531965.jpg
END:VEVENT
END:VCALENDAR