BEGIN:VCALENDAR
VERSION:2.0
PRODID:-//NGC 25 - ECPv6.15.20//NONSGML v1.0//EN
CALSCALE:GREGORIAN
METHOD:PUBLISH
X-ORIGINAL-URL:https://ngc25.com
X-WR-CALDESC:Évènements pour NGC 25
REFRESH-INTERVAL;VALUE=DURATION:PT1H
X-Robots-Tag:noindex
X-PUBLISHED-TTL:PT1H
BEGIN:VTIMEZONE
TZID:Europe/Paris
BEGIN:DAYLIGHT
TZOFFSETFROM:+0100
TZOFFSETTO:+0200
TZNAME:CEST
DTSTART:20210328T010000
END:DAYLIGHT
BEGIN:STANDARD
TZOFFSETFROM:+0200
TZOFFSETTO:+0100
TZNAME:CET
DTSTART:20211031T010000
END:STANDARD
BEGIN:DAYLIGHT
TZOFFSETFROM:+0100
TZOFFSETTO:+0200
TZNAME:CEST
DTSTART:20220327T010000
END:DAYLIGHT
BEGIN:STANDARD
TZOFFSETFROM:+0200
TZOFFSETTO:+0100
TZNAME:CET
DTSTART:20221030T010000
END:STANDARD
BEGIN:DAYLIGHT
TZOFFSETFROM:+0100
TZOFFSETTO:+0200
TZNAME:CEST
DTSTART:20230326T010000
END:DAYLIGHT
BEGIN:STANDARD
TZOFFSETFROM:+0200
TZOFFSETTO:+0100
TZNAME:CET
DTSTART:20231029T010000
END:STANDARD
END:VTIMEZONE
BEGIN:VEVENT
DTSTART;TZID=Europe/Paris:20220617T140000
DTEND;TZID=Europe/Paris:20220617T150000
DTSTAMP:20260424T032025
CREATED:20220519T044226Z
LAST-MODIFIED:20220519T044850Z
UID:10957-1655474400-1655478000@ngc25.com
SUMMARY:vendredi 17 juin - le Bal à Boby - Briec (29)
DESCRIPTION:Horaire : 14h (séance jeune public)
URL:https://ngc25.com/agenda/vendredi-17-juin-le-bal-a-boby-briec-29/
LOCATION:Centre culturel Arthémuse\, 46\, rue de la Boissière\, BRIEC\, 29510\, France
CATEGORIES:Le Bal à Boby
ATTACH;FMTTYPE=image/jpeg:https://ngc25.com/wp-content/uploads/2017/09/Ernest-S.-Mandap-5_1600-e1544792531965.jpg
END:VEVENT
BEGIN:VEVENT
DTSTART;TZID=Europe/Paris:20220618T180000
DTEND;TZID=Europe/Paris:20220618T180000
DTSTAMP:20260424T032025
CREATED:20220519T044441Z
LAST-MODIFIED:20220519T044441Z
UID:10960-1655575200-1655575200@ngc25.com
SUMMARY:samedi 18 juin - le Bal à Boby - Briec (29)
DESCRIPTION:Horaire : 18h (séance tout public)
URL:https://ngc25.com/agenda/samedi-18-juin-le-bal-a-boby-briec-29/
LOCATION:Centre culturel Arthémuse\, 46\, rue de la Boissière\, BRIEC\, 29510\, France
CATEGORIES:Le Bal à Boby
ATTACH;FMTTYPE=image/jpeg:https://ngc25.com/wp-content/uploads/2017/09/Ernest-S.-Mandap-5_1600-e1544792531965.jpg
END:VEVENT
END:VCALENDAR