BEGIN:VCALENDAR
VERSION:2.0
PRODID:-//NGC 25 - ECPv6.15.20//NONSGML v1.0//EN
CALSCALE:GREGORIAN
METHOD:PUBLISH
X-WR-CALNAME:NGC 25
X-ORIGINAL-URL:https://ngc25.com
X-WR-CALDESC:Évènements pour NGC 25
REFRESH-INTERVAL;VALUE=DURATION:PT1H
X-Robots-Tag:noindex
X-PUBLISHED-TTL:PT1H
BEGIN:VTIMEZONE
TZID:Europe/Paris
BEGIN:DAYLIGHT
TZOFFSETFROM:+0100
TZOFFSETTO:+0200
TZNAME:CEST
DTSTART:20200329T010000
END:DAYLIGHT
BEGIN:STANDARD
TZOFFSETFROM:+0200
TZOFFSETTO:+0100
TZNAME:CET
DTSTART:20201025T010000
END:STANDARD
BEGIN:DAYLIGHT
TZOFFSETFROM:+0100
TZOFFSETTO:+0200
TZNAME:CEST
DTSTART:20210328T010000
END:DAYLIGHT
BEGIN:STANDARD
TZOFFSETFROM:+0200
TZOFFSETTO:+0100
TZNAME:CET
DTSTART:20211031T010000
END:STANDARD
BEGIN:DAYLIGHT
TZOFFSETFROM:+0100
TZOFFSETTO:+0200
TZNAME:CEST
DTSTART:20220327T010000
END:DAYLIGHT
BEGIN:STANDARD
TZOFFSETFROM:+0200
TZOFFSETTO:+0100
TZNAME:CET
DTSTART:20221030T010000
END:STANDARD
END:VTIMEZONE
BEGIN:VEVENT
DTSTART;VALUE=DATE:20211115
DTEND;VALUE=DATE:20211117
DTSTAMP:20260424T142553
CREATED:20211108T073838Z
LAST-MODIFIED:20211108T073932Z
UID:10633-1636934400-1637107199@ngc25.com
SUMMARY:du lundi 15 au mardi 16 novembre 2021 - le bal à Boby - Ombrée d’Anjou (49)
DESCRIPTION:FESTIVAL OMBRÉE LUMIÈRES\nHoraires :\n15/11: 10h & 14h\n16/11: 10h & 14h
URL:https://ngc25.com/agenda/du-lundi-15-au-mardi-16-novembre-2021-le-bal-a-boby-ombree-danjou-49/
LOCATION:Salle Jeanne d’Arc\, 1 rue de la Verzée – Le Tremblay\, Ombrée d’Anjou\, 49420
CATEGORIES:Le Bal à Boby
ATTACH;FMTTYPE=image/jpeg:https://ngc25.com/wp-content/uploads/2017/09/Ernest-S.-Mandap-5_1600-e1544792531965.jpg
END:VEVENT
END:VCALENDAR