BEGIN:VCALENDAR
VERSION:2.0
PRODID:-//NGC 25 - ECPv6.15.20//NONSGML v1.0//EN
CALSCALE:GREGORIAN
METHOD:PUBLISH
X-ORIGINAL-URL:https://ngc25.com
X-WR-CALDESC:Évènements pour NGC 25
REFRESH-INTERVAL;VALUE=DURATION:PT1H
X-Robots-Tag:noindex
X-PUBLISHED-TTL:PT1H
BEGIN:VTIMEZONE
TZID:Europe/Paris
BEGIN:DAYLIGHT
TZOFFSETFROM:+0100
TZOFFSETTO:+0200
TZNAME:CEST
DTSTART:20200329T010000
END:DAYLIGHT
BEGIN:STANDARD
TZOFFSETFROM:+0200
TZOFFSETTO:+0100
TZNAME:CET
DTSTART:20201025T010000
END:STANDARD
BEGIN:DAYLIGHT
TZOFFSETFROM:+0100
TZOFFSETTO:+0200
TZNAME:CEST
DTSTART:20210328T010000
END:DAYLIGHT
BEGIN:STANDARD
TZOFFSETFROM:+0200
TZOFFSETTO:+0100
TZNAME:CET
DTSTART:20211031T010000
END:STANDARD
BEGIN:DAYLIGHT
TZOFFSETFROM:+0100
TZOFFSETTO:+0200
TZNAME:CEST
DTSTART:20220327T010000
END:DAYLIGHT
BEGIN:STANDARD
TZOFFSETFROM:+0200
TZOFFSETTO:+0100
TZNAME:CET
DTSTART:20221030T010000
END:STANDARD
END:VTIMEZONE
BEGIN:VEVENT
DTSTART;VALUE=DATE:20211024
DTEND;VALUE=DATE:20211025
DTSTAMP:20260424T162550
CREATED:20210618T134216Z
LAST-MODIFIED:20210621T073552Z
UID:10502-1635033600-1635119999@ngc25.com
SUMMARY:Dimanche 24 octobre - Le bal à Boby - Montauban (35)
DESCRIPTION:Horaire : 15h dans le cadre du festival Mômes d’automne
URL:https://ngc25.com/agenda/dimanche-24-octobre-le-bal-a-boby-montauban-35/
LOCATION:Montauban\, salle polyvalente de Saint-Pern\, Montauban\, 35000\, France
CATEGORIES:Le Bal à Boby
ATTACH;FMTTYPE=image/jpeg:https://ngc25.com/wp-content/uploads/2017/09/Ernest-S.-Mandap-5_1600-e1544792531965.jpg
END:VEVENT
END:VCALENDAR