BEGIN:VCALENDAR
VERSION:2.0
PRODID:-//NGC 25 - ECPv6.15.20//NONSGML v1.0//EN
CALSCALE:GREGORIAN
METHOD:PUBLISH
X-WR-CALNAME:NGC 25
X-ORIGINAL-URL:https://ngc25.com
X-WR-CALDESC:Évènements pour NGC 25
REFRESH-INTERVAL;VALUE=DURATION:PT1H
X-Robots-Tag:noindex
X-PUBLISHED-TTL:PT1H
BEGIN:VTIMEZONE
TZID:Europe/Paris
BEGIN:DAYLIGHT
TZOFFSETFROM:+0100
TZOFFSETTO:+0200
TZNAME:CEST
DTSTART:20180325T010000
END:DAYLIGHT
BEGIN:STANDARD
TZOFFSETFROM:+0200
TZOFFSETTO:+0100
TZNAME:CET
DTSTART:20181028T010000
END:STANDARD
BEGIN:DAYLIGHT
TZOFFSETFROM:+0100
TZOFFSETTO:+0200
TZNAME:CEST
DTSTART:20190331T010000
END:DAYLIGHT
BEGIN:STANDARD
TZOFFSETFROM:+0200
TZOFFSETTO:+0100
TZNAME:CET
DTSTART:20191027T010000
END:STANDARD
BEGIN:DAYLIGHT
TZOFFSETFROM:+0100
TZOFFSETTO:+0200
TZNAME:CEST
DTSTART:20200329T010000
END:DAYLIGHT
BEGIN:STANDARD
TZOFFSETFROM:+0200
TZOFFSETTO:+0100
TZNAME:CET
DTSTART:20201025T010000
END:STANDARD
END:VTIMEZONE
BEGIN:VEVENT
DTSTART;VALUE=DATE:20191204
DTEND;VALUE=DATE:20191205
DTSTAMP:20260426T054746
CREATED:20190702T082423Z
LAST-MODIFIED:20191016T105526Z
UID:8157-1575417600-1575503999@ngc25.com
SUMMARY:Mercredi 4 décembre - Le bal à Boby\, Trignac (44)
DESCRIPTION:Horaires : 15h30 et 18h30
URL:https://ngc25.com/agenda/mercredi-4-decembre-le-bal-a-boby-trignac-44/
LOCATION:Salle des fêtes de Trignac\, Rue de la Mairie\, Trignac\, 44570\, France
CATEGORIES:Le Bal à Boby
ATTACH;FMTTYPE=image/jpeg:https://ngc25.com/wp-content/uploads/2017/09/Ernest-S.-Mandap-5_1600-e1544792531965.jpg
END:VEVENT
BEGIN:VEVENT
DTSTART;VALUE=DATE:20191212
DTEND;VALUE=DATE:20191213
DTSTAMP:20260426T054746
CREATED:20190702T090723Z
LAST-MODIFIED:20191016T105900Z
UID:8162-1576108800-1576195199@ngc25.com
SUMMARY:Jeudi 12 décembre - le Bal à Boby\, Saint-Germain-en -Laye (78)
DESCRIPTION:Horaires : 14h et 20h
URL:https://ngc25.com/agenda/jeudi-12-decembre-le-bal-a-boby-saint-germain-en-laye-78/
LOCATION:Théâtre Alexandre Dumas\, Jardin des Arts\, place André Malraux\, Saint-Germain-en-Laye\, 78100\, France
CATEGORIES:Le Bal à Boby
ATTACH;FMTTYPE=image/jpeg:https://ngc25.com/wp-content/uploads/2017/09/Ernest-S.-Mandap-5_1600-e1544792531965.jpg
END:VEVENT
BEGIN:VEVENT
DTSTART;VALUE=DATE:20191221
DTEND;VALUE=DATE:20191222
DTSTAMP:20260426T054746
CREATED:20190702T091229Z
LAST-MODIFIED:20191016T110027Z
UID:8165-1576886400-1576972799@ngc25.com
SUMMARY:Samedi 21 décembre - Le bal à Boby\, Saint-Jean-de-Boiseau (44)
DESCRIPTION:Horaires : 16h45
URL:https://ngc25.com/agenda/samedi-21-decembre-le-bal-a-boby-saint-jean-de-boiseau-44/
LOCATION:Espace des Pierres Blanches\, Rue des Pierres Blanches\, Saint-Jean-de-Boiseau\, 44640\, France
CATEGORIES:Le Bal à Boby
ATTACH;FMTTYPE=image/jpeg:https://ngc25.com/wp-content/uploads/2017/09/Ernest-S.-Mandap-5_1600-e1544792531965.jpg
END:VEVENT
END:VCALENDAR