BEGIN:VCALENDAR
VERSION:2.0
PRODID:-//NGC 25 - ECPv6.15.20//NONSGML v1.0//EN
CALSCALE:GREGORIAN
METHOD:PUBLISH
X-ORIGINAL-URL:https://ngc25.com
X-WR-CALDESC:Évènements pour NGC 25
REFRESH-INTERVAL;VALUE=DURATION:PT1H
X-Robots-Tag:noindex
X-PUBLISHED-TTL:PT1H
BEGIN:VTIMEZONE
TZID:Europe/Paris
BEGIN:DAYLIGHT
TZOFFSETFROM:+0100
TZOFFSETTO:+0200
TZNAME:CEST
DTSTART:20240331T010000
END:DAYLIGHT
BEGIN:STANDARD
TZOFFSETFROM:+0200
TZOFFSETTO:+0100
TZNAME:CET
DTSTART:20241027T010000
END:STANDARD
BEGIN:DAYLIGHT
TZOFFSETFROM:+0100
TZOFFSETTO:+0200
TZNAME:CEST
DTSTART:20250330T010000
END:DAYLIGHT
BEGIN:STANDARD
TZOFFSETFROM:+0200
TZOFFSETTO:+0100
TZNAME:CET
DTSTART:20251026T010000
END:STANDARD
BEGIN:DAYLIGHT
TZOFFSETFROM:+0100
TZOFFSETTO:+0200
TZNAME:CEST
DTSTART:20260329T010000
END:DAYLIGHT
BEGIN:STANDARD
TZOFFSETFROM:+0200
TZOFFSETTO:+0100
TZNAME:CET
DTSTART:20261025T010000
END:STANDARD
END:VTIMEZONE
BEGIN:VEVENT
DTSTART;TZID=Europe/Paris:20250706T171000
DTEND;TZID=Europe/Paris:20250724T181000
DTSTAMP:20260425T131742
CREATED:20250514T084851Z
LAST-MODIFIED:20250702T095259Z
UID:11770-1751821800-1753380600@ngc25.com
SUMMARY:du 6 au 24 juillet - Des pieds et des mains - Avignon (84)
DESCRIPTION:Jours pairs à 17h10
URL:https://ngc25.com/agenda/du-6-au-24-juillet-des-pieds-et-des-mains-avignon-84/
LOCATION:Théâtre du Train Bleu\, 40 Rue Paul Sain\, Avignon\, 84000\, France
CATEGORIES:Des pieds et des mains
ATTACH;FMTTYPE=image/jpeg:https://ngc25.com/wp-content/uploads/2020/10/IMG_4802-1-2020-07-12-08_19_19.jpg
END:VEVENT
END:VCALENDAR